BEGIN:VCALENDAR
VERSION:2.0
PRODID:-//hacksw/handcal//NONSGML v1.0//EN
BEGIN:VEVENT
DTSTART:20260618T090000
DTEND:20260618T170000
LOCATION:La Banque Postale - Toulouse \n16 Rue Gabriel Péri \n31015 Toulouse
ORGANIZER;CN=Patrick Infante:MAILTO:infante@gsefr.org
SUMMARY:Réunion Guide MVS - 18/06/2026 - Organisée par La Banque Postale à Toulouse
DESCRIPTION:                                                                Réunion Guide MVS - 18/06/2026 - Organisée par La Banque Postale16 Rue Gabriel Péri - CS 31523 - 31015 Toulouse \nAgenda :      09h00 - ...
URL:https://www.gsefr.org/fr/event/reunion-guide-mvs-18-06-2026-organisee-par-la-banque-postale-a-toulouse/2026/06/18/315
BEGIN:VALARM
TRIGGER:-P0DT1H0M0S
ACTION:DISPLAY
END:VALARM
END:VEVENT
END:VCALENDAR