BEGIN:VCALENDAR
VERSION:2.0
PRODID:-//hacksw/handcal//NONSGML v1.0//EN
BEGIN:VEVENT
DTSTART:20260601T120000
DTEND:20260602T140000
LOCATION:Bordeaux \nEsplanade Charles-de-Gaulle \n33045 BORDEAUX
ORGANIZER;CN=Frédéric Conti:MAILTO:fconti@maxinfortech.com
SUMMARY:Club Utilisateurs Maximo 2026
DESCRIPTION:Choisissez bien vos options d'inscription ci-dessousLa prochaine édition du Club Utilisateurs Maximo se tiendra à Bordeaux-Métropole les 1er et 2 juin 2026.\nLundi 1er Juin12h00 – 13h00 : Déjeuner de ...
URL:https://www.gsefr.org/fr/event/club-utilisateurs-maximo-2026/2026/06/01/311
BEGIN:VALARM
TRIGGER:-P0DT1H0M0S
ACTION:DISPLAY
END:VALARM
END:VEVENT
END:VCALENDAR