BEGIN:VCALENDAR
VERSION:2.0
PRODID:-//hacksw/handcal//NONSGML v1.0//EN
BEGIN:VEVENT
DTSTART:20231116T120000
DTEND:20231116T180000
LOCATION:L'atelier du FRANCE  \nPort de Grenelle \n75015 Paris
ORGANIZER;CN=André Puma:MAILTO:pumaan@free.fr
SUMMARY:Mainframe Day Trigone/NRB
DESCRIPTION:\n
URL:https://www.gsefr.org/fr/event/mainframe-day-trigone-nrb/2023/11/16/222
BEGIN:VALARM
TRIGGER:-P0DT1H0M0S
ACTION:DISPLAY
END:VALARM
END:VEVENT
END:VCALENDAR